BEGIN:VCALENDAR
VERSION:2.0
PRODID:-//Bible Believers Church - ECPv5.8.1//NONSGML v1.0//EN
CALSCALE:GREGORIAN
METHOD:PUBLISH
X-WR-CALNAME:Bible Believers Church
X-ORIGINAL-URL:https://bbcosl.com
X-WR-CALDESC:Events for Bible Believers Church
BEGIN:VTIMEZONE
TZID:America/Detroit
BEGIN:DAYLIGHT
TZOFFSETFROM:-0500
TZOFFSETTO:-0400
TZNAME:EDT
DTSTART:20220313T070000
END:DAYLIGHT
BEGIN:STANDARD
TZOFFSETFROM:-0400
TZOFFSETTO:-0500
TZNAME:EST
DTSTART:20221106T060000
END:STANDARD
END:VTIMEZONE
BEGIN:VEVENT
DTSTART;TZID=America/Detroit:20220108T163000
DTEND;TZID=America/Detroit:20220108T203000
DTSTAMP:20260423T185003
CREATED:20210829T193022Z
LAST-MODIFIED:20220104T191106Z
UID:2028-1641659400-1641673800@bbcosl.com
SUMMARY:Church Anniversary Church Dinner
DESCRIPTION:We will be having our Annual Church Anniversary Banquet at Bakers of Milford. Pastor Mike Wheeler will be with us for our special evening. Please see Grace for details regarding the dinner.
URL:https://bbcosl.com/event/church-anniversary-church-dinner/
LOCATION:Bakers of Milford\, 2025 S. Milford Road\, Milford\, Michigan\, 48381
CATEGORIES:Special Meeting
END:VEVENT
END:VCALENDAR