BEGIN:VCALENDAR
VERSION:2.0
PRODID:-//Bible Believers Church - ECPv5.8.1//NONSGML v1.0//EN
CALSCALE:GREGORIAN
METHOD:PUBLISH
X-WR-CALNAME:Bible Believers Church
X-ORIGINAL-URL:https://bbcosl.com
X-WR-CALDESC:Events for Bible Believers Church
BEGIN:VTIMEZONE
TZID:America/Detroit
BEGIN:DAYLIGHT
TZOFFSETFROM:-0500
TZOFFSETTO:-0400
TZNAME:EDT
DTSTART:20210314T070000
END:DAYLIGHT
BEGIN:STANDARD
TZOFFSETFROM:-0400
TZOFFSETTO:-0500
TZNAME:EST
DTSTART:20211107T060000
END:STANDARD
END:VTIMEZONE
BEGIN:VEVENT
DTSTART;TZID=America/Detroit:20211022T183000
DTEND;TZID=America/Detroit:20211022T203000
DTSTAMP:20260423T124534
CREATED:20210925T195929Z
LAST-MODIFIED:20210925T195929Z
UID:2037-1634927400-1634934600@bbcosl.com
SUMMARY:Teen Activity
DESCRIPTION:Please see the Berlucchi’s for details
URL:https://bbcosl.com/event/teen-activity/
LOCATION:TBD
CATEGORIES:Teen Activity
END:VEVENT
END:VCALENDAR